BEGIN:VCALENDAR
VERSION:2.0
PRODID:-//Poway Weapons &amp; Gear Range - ECPv6.15.18//NONSGML v1.0//EN
CALSCALE:GREGORIAN
METHOD:PUBLISH
X-ORIGINAL-URL:https://www.pwgrange.com
X-WR-CALDESC:Events for Poway Weapons &amp; Gear Range
REFRESH-INTERVAL;VALUE=DURATION:PT1H
X-Robots-Tag:noindex
X-PUBLISHED-TTL:PT1H
BEGIN:VTIMEZONE
TZID:UTC
BEGIN:STANDARD
TZOFFSETFROM:+0000
TZOFFSETTO:+0000
TZNAME:UTC
DTSTART:20170101T000000
END:STANDARD
END:VTIMEZONE
BEGIN:VEVENT
DTSTART;TZID=UTC:20181130T080000
DTEND;TZID=UTC:20181130T160000
DTSTAMP:20260419T082437
CREATED:20181115T162652Z
LAST-MODIFIED:20181129T164123Z
UID:6217-1543564800-1543593600@www.pwgrange.com
SUMMARY:Concealed American
DESCRIPTION:
URL:https://www.pwgrange.com/event/concealed-american/
END:VEVENT
BEGIN:VEVENT
DTSTART;TZID=UTC:20181130T080000
DTEND;TZID=UTC:20181130T160000
DTSTAMP:20260419T082437
CREATED:20181116T162659Z
LAST-MODIFIED:20181129T164124Z
UID:6224-1543564800-1543593600@www.pwgrange.com
SUMMARY:Concealed American - 11/30 @ 08:00A
DESCRIPTION:It is always an exciting time to learn about firearms and personal protection. PWG supports the need to protect yourself at home and beyond. This course is designed for anyone with an interest in safe and effective use of a handgun while carrying a concealed weapon. You will be exposed to legal definitions\, situational preparedness\, negatives of carrying a firearm\, criminal and civil liability\, deploying the firearm from concealment and more!\n*** 8 Hours Long  View More: http://pwgrange.com/training/class/ca-concealed-carry-classes-multi-state-ccw/
URL:https://www.pwgrange.com/event/concealed-american-11-30-0800a/
END:VEVENT
BEGIN:VEVENT
DTSTART;TZID=UTC:20181201T100000
DTEND;TZID=UTC:20181201T130000
DTSTAMP:20260419T082437
CREATED:20181104T155620Z
LAST-MODIFIED:20181201T164148Z
UID:6155-1543658400-1543669200@www.pwgrange.com
SUMMARY:Handgun Next Steps - 12/01 @ 10:00am
DESCRIPTION:Handgun Next Steps takes off where Introduction to Handgun first steps left off. There will be a review of the topics and skills learned in Introduction to Handgun 1 and then we will build on them with most of the class being spent on handgun manipulation. Students will be experiencing loading and unloading of the handgun in the non-stress environment of the classroom using snap-caps (dummy rounds). We will also touch on legal definitions related to the storage and transport of handguns\, ammunition selection\, and basic marksmanship on the range.
URL:https://www.pwgrange.com/event/handgun-next-steps-12-01-1000am/
END:VEVENT
BEGIN:VEVENT
DTSTART;TZID=UTC:20181201T140000
DTEND;TZID=UTC:20181201T170000
DTSTAMP:20260419T082437
CREATED:20181104T155620Z
LAST-MODIFIED:20181201T164148Z
UID:6156-1543672800-1543683600@www.pwgrange.com
SUMMARY:Youth Safety and Markmanship 12/01 @ 2:00 pm
DESCRIPTION:Now your child can learn the proper way to handle firearms from a certified firearms instructor. In this interactive class children will learn safety\, firearm function/ operation\, and the fundamentals with range time (shooting)! Yes\,students will have the opportunity to shoot pistols and .22 long rifles.\nAn interactive discussion on facts and myths of firearms in TV/movies/ video games vs. firearms in real life Discussion of safety rules Scenarios on finding guns and what to do/not do when one is found.
URL:https://www.pwgrange.com/event/youth-safety-and-markmanship-12-01-200-pm/
END:VEVENT
BEGIN:VEVENT
DTSTART;TZID=UTC:20181202T100000
DTEND;TZID=UTC:20181202T113000
DTSTAMP:20260419T082437
CREATED:20181104T155620Z
LAST-MODIFIED:20181202T164134Z
UID:6157-1543744800-1543750200@www.pwgrange.com
SUMMARY:4 Step Draw/Dynamic Certification Lab  - 12/02 @ 10:00am
DESCRIPTION:This lab is being offered to those who wish to develop a proper technique to draw from the holster in order to quickly address a threat for defensive handgun or tactics purposes.  At the conclusion of this lab\, participants will also be dynamically certified so that they can draw while shooting on the ranges at Poway Weapons and Gear in the future.  \n2 Hours Long
URL:https://www.pwgrange.com/event/4-step-draw-dynamic-certification-lab-12-02-1000am/
END:VEVENT
BEGIN:VEVENT
DTSTART;TZID=UTC:20181202T140000
DTEND;TZID=UTC:20181202T170000
DTSTAMP:20260419T082437
CREATED:20181104T155620Z
LAST-MODIFIED:20181202T164134Z
UID:6158-1543759200-1543770000@www.pwgrange.com
SUMMARY:Handgun First Steps - 12/02 @ 2:00pm
DESCRIPTION:This course is intended for the individual with little or no firearms experience at all. There is not a great deal of range time in this class. This class is designed to set the groundwork for safe pistol handling. This class will teach you all the basics\, from handgun cleaning to definitions of terms to explaining the difference between a revolver and a semi-automatic. This is a great opportunity for a beginner to ask questions\, get answers\, and learn in a non-threatening environment. This will be a very FUN and informative class. There will be some time for some one-on-one instruction and if you want to\, there will be some time on the range to shoot a revolver and semi-automatic that you had learned about in the class (however\, you will not be forced to shoot if you are not ready!) The successful completion of this course will give you the basic foundation to start an exciting journey through the handgun and other firearms courses offered by Poway Weapons & Gear. \n** 3 Hours Long  View More: http://pwgrange.com/training/class/introduction-to_handguns/
URL:https://www.pwgrange.com/event/handgun-first-steps-12-02-200pm/
END:VEVENT
BEGIN:VEVENT
DTSTART;TZID=UTC:20181204T090000
DTEND;TZID=UTC:20181204T235500
DTSTAMP:20260419T082437
CREATED:20181104T155621Z
LAST-MODIFIED:20181204T164123Z
UID:6159-1543914000-1543967700@www.pwgrange.com
SUMMARY:GOVERMENT CONTRACT
DESCRIPTION:
URL:https://www.pwgrange.com/event/goverment-contract-64/
END:VEVENT
BEGIN:VEVENT
DTSTART;TZID=UTC:20181204T163000
DTEND;TZID=UTC:20181204T190000
DTSTAMP:20260419T082437
CREATED:20181129T164125Z
LAST-MODIFIED:20181204T164123Z
UID:6275-1543941000-1543950000@www.pwgrange.com
SUMMARY:Private Party- Jovanne Sanchez
DESCRIPTION:7 people on the 50 yard\, 3 lanes\, VIP lounge\, firearm rentals\, one per lane\, 7 targets/eyes/ears. RSO briefing\, 10% off ammo\, 2 hours on range. 4 to 6 pm. Pizza being delivered.
URL:https://www.pwgrange.com/event/private-party-jovanne-sanchez/
END:VEVENT
BEGIN:VEVENT
DTSTART;TZID=UTC:20181205T180000
DTEND;TZID=UTC:20181205T193000
DTSTAMP:20260419T082437
CREATED:20181105T155705Z
LAST-MODIFIED:20181205T164108Z
UID:6166-1544032800-1544038200@www.pwgrange.com
SUMMARY:How to Get Your CA CCW 12/05 @ 6:00pm
DESCRIPTION:PWG is a proud member and supporter of San Diego County Gun Owners and together we have worked hard to bring California CCWs to San Diego.  We are proud to announce that CCWs are now being issued!  The changes in the CCW process are great\, but it is still a process.  We want to help make it easier for you! \nWe will walk you through the application process\, review the range qualification\, help you craft your individual “good cause” statement\, and show you how PWG can help your before\, during and after the process.   \nThe seminar will be led by Michael Schwartz from San Diego County Gun Owners and PWG CCW instructors. Sign up quick!  Seating is limited \n$20 for non PWG members\, $10 for Members.  Receive $30 off the CCW Class! \nWe also offer options for taking the class now\, taking a “recert” class with others during a scheduled recert class\, OR for $100 we will recert you at your convenience!
URL:https://www.pwgrange.com/event/how-to-get-your-ca-ccw-12-05-600pm/
END:VEVENT
BEGIN:VEVENT
DTSTART;TZID=UTC:20181206T173000
DTEND;TZID=UTC:20181206T203000
DTSTAMP:20260419T082437
CREATED:20181106T161204Z
LAST-MODIFIED:20181206T164148Z
UID:6171-1544117400-1544128200@www.pwgrange.com
SUMMARY:Shotgun First Steps - 12/06 @ 5:30pm
DESCRIPTION:This course is intended for the individual with little or no shotgun experience but has the desire to use a shotgun for self defense in the home. The class consists of a lecture which includes safety\, basic shotgun\, nomenclature and operation. The lecture covers legal aspects of deadly force and how it relates to personal protection.\n***3 Hours  View More: http://pwgrange.com/training/class/intro-to_shotgun/
URL:https://www.pwgrange.com/event/shotgun-first-steps-12-06-530pm/
END:VEVENT
BEGIN:VEVENT
DTSTART;TZID=UTC:20181207T070000
DTEND;TZID=UTC:20181207T100000
DTSTAMP:20260419T082437
CREATED:20181204T164124Z
LAST-MODIFIED:20181207T164106Z
UID:6299-1544166000-1544176800@www.pwgrange.com
SUMMARY:GOVERMENT CONTRACT
DESCRIPTION:
URL:https://www.pwgrange.com/event/goverment-contract-70/
END:VEVENT
BEGIN:VEVENT
DTSTART;TZID=UTC:20181207T080000
DTEND;TZID=UTC:20181207T090000
DTSTAMP:20260419T082437
CREATED:20181122T164121Z
LAST-MODIFIED:20181207T164106Z
UID:6248-1544169600-1544173200@www.pwgrange.com
SUMMARY:Concealed American 4 hour Recertification
DESCRIPTION:It is always an exciting time to learn about firearms and personal protection. PWG supports the need to protect yourself at home and beyond. This course is designed for anyone that is looking to recertify a CA CCW permit. You will be exposed to legal definitions\, situational preparedness\, negatives of carrying a firearm\, criminal and civil liability\, deploying the firearm from concealment and more!\n*** 4 Hours Long
URL:https://www.pwgrange.com/event/concealed-american-4-hour-recertification/
END:VEVENT
BEGIN:VEVENT
DTSTART;TZID=UTC:20181207T080000
DTEND;TZID=UTC:20181207T100000
DTSTAMP:20260419T082437
CREATED:20181130T164133Z
LAST-MODIFIED:20181207T164106Z
UID:6282-1544169600-1544176800@www.pwgrange.com
SUMMARY:GOVERMENT CONTRACT
DESCRIPTION:
URL:https://www.pwgrange.com/event/goverment-contract-69/
END:VEVENT
BEGIN:VEVENT
DTSTART;TZID=UTC:20181207T140000
DTEND;TZID=UTC:20181207T153000
DTSTAMP:20260419T082437
CREATED:20181107T161130Z
LAST-MODIFIED:20181207T164106Z
UID:6179-1544191200-1544196600@www.pwgrange.com
SUMMARY:Handgun Marksmanship Fundamentals Lab  - 12/07 @ 2:00pm
DESCRIPTION:This lab is designed to introduce\, or affirm\, the six primary fundamentals of handgun shooting to each student and demonstrate how these same fundamentals affect basic marksmanship. These fundamentals include the stance\, grip\, sight alignment\, breathing control\, trigger press and follow through. Our instructors will coach each student using the non-stress environment of the classroom to develop the competency in these shooting fundamentals. Upon demonstration of competency in the classroom\, our students will demonstrate these same competencies in live fire evolutions on the range while receiving continuous coaching to further perfect these marksmanship skills.\n***90 mins
URL:https://www.pwgrange.com/event/handgun-marksmanship-fundamentals-lab-12-07-200pm/
END:VEVENT
BEGIN:VEVENT
DTSTART;TZID=UTC:20181207T173000
DTEND;TZID=UTC:20181207T203000
DTSTAMP:20260419T082437
CREATED:20181107T161130Z
LAST-MODIFIED:20181207T164106Z
UID:6180-1544203800-1544214600@www.pwgrange.com
SUMMARY:Handgun First Steps - 12/07 @ 5:30pm
DESCRIPTION:This course is intended for the individual with little or no firearms experience at all. There is not a great deal of range time in this class. This class is designed to set the groundwork for safe pistol handling. This class will teach you all the basics\, from handgun cleaning to definitions of terms to explaining the difference between a revolver and a semi-automatic. This is a great opportunity for a beginner to ask questions\, get answers\, and learn in a non-threatening environment. This will be a very FUN and informative class. There will be some time for some one-on-one instruction and if you want to\, there will be some time on the range to shoot a revolver and semi-automatic that you had learned about in the class (however\, you will not be forced to shoot if you are not ready!) The successful completion of this course will give you the basic foundation to start an exciting journey through the handgun and other firearms courses offered by Poway Weapons & Gear. \n** 3 Hours Long  View More: http://pwgrange.com/training/class/introduction-to_handguns/
URL:https://www.pwgrange.com/event/handgun-first-steps-12-07-530pm/
END:VEVENT
BEGIN:VEVENT
DTSTART;TZID=UTC:20181208T080000
DTEND;TZID=UTC:20181209T090000
DTSTAMP:20260419T082437
CREATED:20181108T161408Z
LAST-MODIFIED:20181209T164119Z
UID:6185-1544256000-1544346000@www.pwgrange.com
SUMMARY:DEL MAR GUN SHOW
DESCRIPTION:PWG RANGE BOOTH
URL:https://www.pwgrange.com/event/del-mar-gun-show/
END:VEVENT
BEGIN:VEVENT
DTSTART;TZID=UTC:20181208T100000
DTEND;TZID=UTC:20181208T130000
DTSTAMP:20260419T082437
CREATED:20181108T161409Z
LAST-MODIFIED:20181208T164201Z
UID:6186-1544263200-1544274000@www.pwgrange.com
SUMMARY:Handgun Next Steps - 12/08 @ 10:00am
DESCRIPTION:Handgun Next Steps takes off where Introduction to Handgun first steps left off. There will be a review of the topics and skills learned in Introduction to Handgun 1 and then we will build on them with most of the class being spent on handgun manipulation. Students will be experiencing loading and unloading of the handgun in the non-stress environment of the classroom using snap-caps (dummy rounds). We will also touch on legal definitions related to the storage and transport of handguns\, ammunition selection\, and basic marksmanship on the range.
URL:https://www.pwgrange.com/event/handgun-next-steps-12-08-1000am/
END:VEVENT
BEGIN:VEVENT
DTSTART;TZID=UTC:20181208T133000
DTEND;TZID=UTC:20181208T153000
DTSTAMP:20260419T082437
CREATED:20181203T164107Z
LAST-MODIFIED:20181208T164201Z
UID:6297-1544275800-1544283000@www.pwgrange.com
SUMMARY:Private Event
DESCRIPTION:
URL:https://www.pwgrange.com/event/private-event-11/
END:VEVENT
BEGIN:VEVENT
DTSTART;TZID=UTC:20181208T140000
DTEND;TZID=UTC:20181208T170000
DTSTAMP:20260419T082437
CREATED:20181108T161409Z
LAST-MODIFIED:20181208T164201Z
UID:6187-1544277600-1544288400@www.pwgrange.com
SUMMARY:Modern Carbine First Steps 12/08 @ 2:00pm
DESCRIPTION:This course is designed for the individual with little or no carbine rifle experience. In this class you will learn to use your rifle safely and effectively. This is a great opportunity for a beginner to ask questions\, get answers\, and learn in a non-threatening environment. All rifle (.223 or handgun caliber) ammunition is provided for this class and is included in the tuition.\n* Features and functions of a carbine rifle * Accessory selection such as optic choices * How to load and unload * Fundamental skills needed to fire a rifle There will be both classroom and range time in this course. That’s right! Our highly skilled instructors will help you put the classroom knowledge to use on the range and practice the fundamental skills used to fire a rifle.
URL:https://www.pwgrange.com/event/modern-carbine-first-steps-12-08-200pm/
END:VEVENT
BEGIN:VEVENT
DTSTART;TZID=UTC:20181209T100000
DTEND;TZID=UTC:20181209T130000
DTSTAMP:20260419T082437
CREATED:20181109T162658Z
LAST-MODIFIED:20181209T164119Z
UID:6192-1544349600-1544360400@www.pwgrange.com
SUMMARY:Handgun First Steps - 12/09 @ 10:00am
DESCRIPTION:This course is intended for the individual with little or no firearms experience at all. There is not a great deal of range time in this class. This class is designed to set the groundwork for safe pistol handling. This class will teach you all the basics\, from handgun cleaning to definitions of terms to explaining the difference between a revolver and a semi-automatic. This is a great opportunity for a beginner to ask questions\, get answers\, and learn in a non-threatening environment. This will be a very FUN and informative class. There will be some time for some one-on-one instruction and if you want to\, there will be some time on the range to shoot a revolver and semi-automatic that you had learned about in the class (however\, you will not be forced to shoot if you are not ready!) The successful completion of this course will give you the basic foundation to start an exciting journey through the handgun and other firearms courses offered by Poway Weapons & Gear. \n** 3 Hours Long  View More: http://pwgrange.com/training/class/introduction-to_handguns/
URL:https://www.pwgrange.com/event/handgun-first-steps-12-09-1000am/
END:VEVENT
BEGIN:VEVENT
DTSTART;TZID=UTC:20181209T140000
DTEND;TZID=UTC:20181209T170000
DTSTAMP:20260419T082437
CREATED:20181109T162659Z
LAST-MODIFIED:20181209T164119Z
UID:6193-1544364000-1544374800@www.pwgrange.com
SUMMARY:Youth Safety and Markmanship 12/09 @ 2:00 pm
DESCRIPTION:Now your child can learn the proper way to handle firearms from a certified firearms instructor. In this interactive class children will learn safety\, firearm function/ operation\, and the fundamentals with range time (shooting)! Yes\,students will have the opportunity to shoot pistols and .22 long rifles.\nAn interactive discussion on facts and myths of firearms in TV/movies/ video games vs. firearms in real life Discussion of safety rules Scenarios on finding guns and what to do/not do when one is found.
URL:https://www.pwgrange.com/event/youth-safety-and-markmanship-12-09-200-pm/
END:VEVENT
BEGIN:VEVENT
DTSTART;TZID=UTC:20181212T180000
DTEND;TZID=UTC:20181212T213000
DTSTAMP:20260419T082437
CREATED:20181112T162641Z
LAST-MODIFIED:20181212T165636Z
UID:6204-1544637600-1544650200@www.pwgrange.com
SUMMARY:GA Gun Club
DESCRIPTION:Christmas event + VIP Lounge\n$425 deposit paid 12/06/18. Xander\nDeposit under Daniel Fettner
URL:https://www.pwgrange.com/event/ga-gun-club/
END:VEVENT
BEGIN:VEVENT
DTSTART;TZID=UTC:20181213T090000
DTEND;TZID=UTC:20181213T235500
DTSTAMP:20260419T082437
CREATED:20181113T163021Z
LAST-MODIFIED:20181213T165621Z
UID:6208-1544691600-1544745300@www.pwgrange.com
SUMMARY:GOVERMENT CONTRACT
DESCRIPTION:
URL:https://www.pwgrange.com/event/goverment-contract-66/
END:VEVENT
BEGIN:VEVENT
DTSTART;TZID=UTC:20181213T130000
DTEND;TZID=UTC:20181213T150000
DTSTAMP:20260419T082437
CREATED:20181208T164202Z
LAST-MODIFIED:20181213T165621Z
UID:6322-1544706000-1544713200@www.pwgrange.com
SUMMARY:Brad Stump Party
DESCRIPTION:3 lanes on the 50 yard\, #32\, 33\, 34\, 10% off ammo\, total due $65.
URL:https://www.pwgrange.com/event/brad-stump-party/
END:VEVENT
BEGIN:VEVENT
DTSTART;TZID=UTC:20181213T173000
DTEND;TZID=UTC:20181213T203000
DTSTAMP:20260419T082437
CREATED:20181113T163022Z
LAST-MODIFIED:20181201T164150Z
UID:6209-1544722200-1544733000@www.pwgrange.com
SUMMARY:Modern Carbine First Steps 12/13 @ 5:30pm
DESCRIPTION:This course is designed for the individual with little or no carbine rifle experience. In this class you will learn to use your rifle safely and effectively. This is a great opportunity for a beginner to ask questions\, get answers\, and learn in a non-threatening environment. All rifle (.223 or handgun caliber) ammunition is provided for this class and is included in the tuition.\n* Features and functions of a carbine rifle * Accessory selection such as optic choices * How to load and unload * Fundamental skills needed to fire a rifle There will be both classroom and range time in this course. That’s right! Our highly skilled instructors will help you put the classroom knowledge to use on the range and practice the fundamental skills used to fire a rifle.
URL:https://www.pwgrange.com/event/modern-carbine-first-steps-12-13-530pm/
END:VEVENT
BEGIN:VEVENT
DTSTART;TZID=UTC:20181214T080000
DTEND;TZID=UTC:20181214T160000
DTSTAMP:20260419T082437
CREATED:20181205T164110Z
LAST-MODIFIED:20181214T165629Z
UID:6303-1544774400-1544803200@www.pwgrange.com
SUMMARY:Concealed American - 12/14 @ 08:00A
DESCRIPTION:It is always an exciting time to learn about firearms and personal protection. PWG supports the need to protect yourself at home and beyond. This course is designed for anyone with an interest in safe and effective use of a handgun while carrying a concealed weapon. You will be exposed to legal definitions\, situational preparedness\, negatives of carrying a firearm\, criminal and civil liability\, deploying the firearm from concealment and more!\n*** 8 Hours Long  View More: http://pwgrange.com/training/class/ca-concealed-carry-classes-multi-state-ccw/
URL:https://www.pwgrange.com/event/concealed-american-12-14-0800a/
END:VEVENT
BEGIN:VEVENT
DTSTART;TZID=UTC:20181214T140000
DTEND;TZID=UTC:20181214T153000
DTSTAMP:20260419T082437
CREATED:20181114T162700Z
LAST-MODIFIED:20181204T164125Z
UID:6213-1544796000-1544801400@www.pwgrange.com
SUMMARY:Handgun Marksmanship Fundamentals Lab  - 12/14 @ 2:00pm
DESCRIPTION:This lab is designed to introduce\, or affirm\, the six primary fundamentals of handgun shooting to each student and demonstrate how these same fundamentals affect basic marksmanship. These fundamentals include the stance\, grip\, sight alignment\, breathing control\, trigger press and follow through. Our instructors will coach each student using the non-stress environment of the classroom to develop the competency in these shooting fundamentals. Upon demonstration of competency in the classroom\, our students will demonstrate these same competencies in live fire evolutions on the range while receiving continuous coaching to further perfect these marksmanship skills.\n***90 mins
URL:https://www.pwgrange.com/event/handgun-marksmanship-fundamentals-lab-12-14-200pm/
END:VEVENT
BEGIN:VEVENT
DTSTART;TZID=UTC:20181214T173000
DTEND;TZID=UTC:20181214T203000
DTSTAMP:20260419T082437
CREATED:20181114T162700Z
LAST-MODIFIED:20181204T164125Z
UID:6214-1544808600-1544819400@www.pwgrange.com
SUMMARY:Handgun First Steps - 12/14 @ 5:30pm
DESCRIPTION:This course is intended for the individual with little or no firearms experience at all. There is not a great deal of range time in this class. This class is designed to set the groundwork for safe pistol handling. This class will teach you all the basics\, from handgun cleaning to definitions of terms to explaining the difference between a revolver and a semi-automatic. This is a great opportunity for a beginner to ask questions\, get answers\, and learn in a non-threatening environment. This will be a very FUN and informative class. There will be some time for some one-on-one instruction and if you want to\, there will be some time on the range to shoot a revolver and semi-automatic that you had learned about in the class (however\, you will not be forced to shoot if you are not ready!) The successful completion of this course will give you the basic foundation to start an exciting journey through the handgun and other firearms courses offered by Poway Weapons & Gear. \n** 3 Hours Long  View More: http://pwgrange.com/training/class/introduction-to_handguns/
URL:https://www.pwgrange.com/event/handgun-first-steps-12-14-530pm/
END:VEVENT
BEGIN:VEVENT
DTSTART;TZID=UTC:20181215T100000
DTEND;TZID=UTC:20181215T130000
DTSTAMP:20260419T082437
CREATED:20181115T162657Z
LAST-MODIFIED:20181215T165615Z
UID:6220-1544868000-1544878800@www.pwgrange.com
SUMMARY:Handgun Next Steps - 12/15 @ 10:00am
DESCRIPTION:Handgun Next Steps takes off where Introduction to Handgun first steps left off. There will be a review of the topics and skills learned in Introduction to Handgun 1 and then we will build on them with most of the class being spent on handgun manipulation. Students will be experiencing loading and unloading of the handgun in the non-stress environment of the classroom using snap-caps (dummy rounds). We will also touch on legal definitions related to the storage and transport of handguns\, ammunition selection\, and basic marksmanship on the range.
URL:https://www.pwgrange.com/event/handgun-next-steps-12-15-1000am/
END:VEVENT
BEGIN:VEVENT
DTSTART;TZID=UTC:20181215T140000
DTEND;TZID=UTC:20181215T170000
DTSTAMP:20260419T082437
CREATED:20181115T162658Z
LAST-MODIFIED:20181215T165615Z
UID:6221-1544882400-1544893200@www.pwgrange.com
SUMMARY:Youth Safety and Markmanship 12/15 @ 2:00 pm
DESCRIPTION:Now your child can learn the proper way to handle firearms from a certified firearms instructor. In this interactive class children will learn safety\, firearm function/ operation\, and the fundamentals with range time (shooting)! Yes\,students will have the opportunity to shoot pistols and .22 long rifles.\nAn interactive discussion on facts and myths of firearms in TV/movies/ video games vs. firearms in real life Discussion of safety rules Scenarios on finding guns and what to do/not do when one is found.
URL:https://www.pwgrange.com/event/youth-safety-and-markmanship-12-15-200-pm/
END:VEVENT
END:VCALENDAR