BEGIN:VCALENDAR
VERSION:2.0
PRODID:-//Poway Weapons &amp; Gear Range - ECPv6.15.18//NONSGML v1.0//EN
CALSCALE:GREGORIAN
METHOD:PUBLISH
X-WR-CALNAME:Poway Weapons &amp; Gear Range
X-ORIGINAL-URL:https://www.pwgrange.com
X-WR-CALDESC:Events for Poway Weapons &amp; Gear Range
REFRESH-INTERVAL;VALUE=DURATION:PT1H
X-Robots-Tag:noindex
X-PUBLISHED-TTL:PT1H
BEGIN:VTIMEZONE
TZID:UTC
BEGIN:STANDARD
TZOFFSETFROM:+0000
TZOFFSETTO:+0000
TZNAME:UTC
DTSTART:20170101T000000
END:STANDARD
END:VTIMEZONE
BEGIN:VEVENT
DTSTART;TZID=UTC:20181120T070000
DTEND;TZID=UTC:20181120T160000
DTSTAMP:20260419T120314
CREATED:20181117T162624Z
LAST-MODIFIED:20181120T162655Z
UID:6233-1542697200-1542729600@www.pwgrange.com
SUMMARY:GOVERMENT CONTRACT
DESCRIPTION:
URL:https://www.pwgrange.com/event/goverment-contract-67/
END:VEVENT
BEGIN:VEVENT
DTSTART;TZID=UTC:20181117T173000
DTEND;TZID=UTC:20181117T190000
DTSTAMP:20260419T120314
CREATED:20181027T154132Z
LAST-MODIFIED:20181117T162624Z
UID:6095-1542475800-1542481200@www.pwgrange.com
SUMMARY:How to Get Your CA CCW 11/17 @ 5:30pm
DESCRIPTION:PWG is a proud member and supporter of San Diego County Gun Owners and together we have worked hard to bring California CCWs to San Diego.  We are proud to announce that CCWs are now being issued!  The changes in the CCW process are great\, but it is still a process.  We want to help make it easier for you! \nWe will walk you through the application process\, review the range qualification\, help you craft your individual “good cause” statement\, and show you how PWG can help your before\, during and after the process.   \nThe seminar will be led by Michael Schwartz from San Diego County Gun Owners and PWG CCW instructors. Sign up quick!  Seating is limited \n$20 for non PWG members\, $10 for Members.  Receive $30 off the CCW Class! \nWe also offer options for taking the class now\, taking a “recert” class with others during a scheduled recert class\, OR for $100 we will recert you at your convenience!
URL:https://www.pwgrange.com/event/how-to-get-your-ca-ccw-11-17-530pm/
END:VEVENT
BEGIN:VEVENT
DTSTART;TZID=UTC:20181116T160000
DTEND;TZID=UTC:20181116T180000
DTSTAMP:20260419T120314
CREATED:20181111T162631Z
LAST-MODIFIED:20181116T162708Z
UID:6198-1542384000-1542391200@www.pwgrange.com
SUMMARY:PRIVATE PARTY TAVIA BERRY
DESCRIPTION:PARTY ON 25 YARD\, 10 GUESTS ON 5 LANES
URL:https://www.pwgrange.com/event/private-party-tavia-berry-2/
END:VEVENT
BEGIN:VEVENT
DTSTART;TZID=UTC:20181116T160000
DTEND;TZID=UTC:20181116T180000
DTSTAMP:20260419T120314
CREATED:20181107T161124Z
LAST-MODIFIED:20181110T162800Z
UID:6177-1542384000-1542391200@www.pwgrange.com
SUMMARY:PRIVATE PARTY TAVIA BERRY
DESCRIPTION:PRIVATE PARTY 11/16/18 4 TO 6 PM
URL:https://www.pwgrange.com/event/private-party-tavia-berry/
END:VEVENT
BEGIN:VEVENT
DTSTART;TZID=UTC:20181116T080000
DTEND;TZID=UTC:20181116T100000
DTSTAMP:20260419T120314
CREATED:20181031T155628Z
LAST-MODIFIED:20181116T162708Z
UID:6108-1542355200-1542362400@www.pwgrange.com
SUMMARY:DHS-FPS
DESCRIPTION:FPS Quals
URL:https://www.pwgrange.com/event/dhs-fps/
END:VEVENT
BEGIN:VEVENT
DTSTART;TZID=UTC:20181115T173000
DTEND;TZID=UTC:20181115T203000
DTSTAMP:20260419T120314
CREATED:20181016T144157Z
LAST-MODIFIED:20181115T162650Z
UID:6049-1542303000-1542313800@www.pwgrange.com
SUMMARY:Handgun Next Steps - 11/15 @ 5:30p
DESCRIPTION:Introduction to Handgun 2 takes off where Introduction to Handgun 1 left off. There will be a review of the topics and skills learned in Introduction to Handgun 1 and then we will build on them with most of the class being spent on handgun manipulation. Students will be experiencing loading and unloading of the handgun in the non-stress environment of the classroom using snap-caps (dummy rounds). We will also touch on legal definitions related to the storage and transport of handguns\, ammunition selection\, and basic marksmanship on the range.
URL:https://www.pwgrange.com/event/handgun-next-steps-11-15-530p/
END:VEVENT
BEGIN:VEVENT
DTSTART;TZID=UTC:20181115T090000
DTEND;TZID=UTC:20181115T235500
DTSTAMP:20260419T120314
CREATED:20181016T144157Z
LAST-MODIFIED:20181115T162650Z
UID:6048-1542272400-1542326100@www.pwgrange.com
SUMMARY:GOVERMENT CONTRACT
DESCRIPTION:
URL:https://www.pwgrange.com/event/goverment-contract-54/
END:VEVENT
BEGIN:VEVENT
DTSTART;TZID=UTC:20181114T173000
DTEND;TZID=UTC:20181114T203000
DTSTAMP:20260419T120314
CREATED:20181015T141724Z
LAST-MODIFIED:20181114T162654Z
UID:6042-1542216600-1542227400@www.pwgrange.com
SUMMARY:Handgun First Steps - 11/14 @ 530pm
DESCRIPTION:This course is intended for the individual with little or no firearms experience at all. There is not a great deal of range time in this class. This class is designed to set the groundwork for safe pistol handling. This class will teach you all the basics\, from handgun cleaning to definitions of terms to explaining the difference between a revolver and a semi-automatic. This is a great opportunity for a beginner to ask questions\, get answers\, and learn in a non-threatening environment. This will be a very FUN and informative class. There will be some time for some one-on-one instruction and if you want to\, there will be some time on the range to shoot a revolver and semi-automatic that you had learned about in the class (however\, you will not be forced to shoot if you are not ready!) The successful completion of this course will give you the basic foundation to start an exciting journey through the handgun and other firearms courses offered by Poway Weapons & Gear. \n** 3 Hours Long  View More: http://pwgrange.com/training/class/introduction-to_handguns/
URL:https://www.pwgrange.com/event/handgun-first-steps-11-14-530pm/
END:VEVENT
BEGIN:VEVENT
DTSTART;TZID=UTC:20181111T140000
DTEND;TZID=UTC:20181111T170000
DTSTAMP:20260419T120314
CREATED:20181012T041350Z
LAST-MODIFIED:20181111T162630Z
UID:6034-1541944800-1541955600@www.pwgrange.com
SUMMARY:Modern Carbine First Steps 11/11 @ 2:00pm
DESCRIPTION:This course is designed for the individual with little or no carbine rifle experience. In this class you will learn to use your rifle safely and effectively. This is a great opportunity for a beginner to ask questions\, get answers\, and learn in a non-threatening environment. All rifle (.223 or handgun caliber) ammunition is provided for this class and is included in the tuition.\n* Features and functions of a carbine rifle * Accessory selection such as optic choices * How to load and unload * Fundamental skills needed to fire a rifle There will be both classroom and range time in this course. That’s right! Our highly skilled instructors will help you put the classroom knowledge to use on the range and practice the fundamental skills used to fire a rifle.
URL:https://www.pwgrange.com/event/modern-carbine-first-steps-11-11-200pm/
END:VEVENT
BEGIN:VEVENT
DTSTART;TZID=UTC:20181111T100000
DTEND;TZID=UTC:20181111T130000
DTSTAMP:20260419T120314
CREATED:20181012T041350Z
LAST-MODIFIED:20181111T162629Z
UID:6033-1541930400-1541941200@www.pwgrange.com
SUMMARY:Handgun First Steps - 11/11 @ 10:00am
DESCRIPTION:This course is intended for the individual with little or no firearms experience at all. There is not a great deal of range time in this class. This class is designed to set the groundwork for safe pistol handling. This class will teach you all the basics\, from handgun cleaning to definitions of terms to explaining the difference between a revolver and a semi-automatic. This is a great opportunity for a beginner to ask questions\, get answers\, and learn in a non-threatening environment. This will be a very FUN and informative class. There will be some time for some one-on-one instruction and if you want to\, there will be some time on the range to shoot a revolver and semi-automatic that you had learned about in the class (however\, you will not be forced to shoot if you are not ready!) The successful completion of this course will give you the basic foundation to start an exciting journey through the handgun and other firearms courses offered by Poway Weapons & Gear. \n** 3 Hours Long  View More: http://pwgrange.com/training/class/introduction-to_handguns/
URL:https://www.pwgrange.com/event/handgun-first-steps-11-11-1000am/
END:VEVENT
BEGIN:VEVENT
DTSTART;TZID=UTC:20181110T140000
DTEND;TZID=UTC:20181110T153000
DTSTAMP:20260419T120314
CREATED:20181011T035628Z
LAST-MODIFIED:20181110T162758Z
UID:6029-1541858400-1541863800@www.pwgrange.com
SUMMARY:4 Step Draw/Dynamic Certification Lab  - 11/10 @ 2:00pm
DESCRIPTION:This lab is being offered to those who wish to develop a proper technique to draw from the holster in order to quickly address a threat for defensive handgun or tactics purposes.  At the conclusion of this lab\, participants will also be dynamically certified so that they can draw while shooting on the ranges at Poway Weapons and Gear in the future.  \n2 Hours Long
URL:https://www.pwgrange.com/event/4-step-draw-dynamic-certification-lab-11-10-200pm/
END:VEVENT
BEGIN:VEVENT
DTSTART;TZID=UTC:20181110T100000
DTEND;TZID=UTC:20181110T130000
DTSTAMP:20260419T120314
CREATED:20181011T035628Z
LAST-MODIFIED:20181017T144300Z
UID:6028-1541844000-1541854800@www.pwgrange.com
SUMMARY:Handgun Next Steps - 11/10 @ 10:00am
DESCRIPTION:Introduction to Handgun 2 takes off where Introduction to Handgun 1 left off. There will be a review of the topics and skills learned in Introduction to Handgun 1 and then we will build on them with most of the class being spent on handgun manipulation. Students will be experiencing loading and unloading of the handgun in the non-stress environment of the classroom using snap-caps (dummy rounds). We will also touch on legal definitions related to the storage and transport of handguns\, ammunition selection\, and basic marksmanship on the range.
URL:https://www.pwgrange.com/event/handgun-next-steps-11-10-1000am/
END:VEVENT
BEGIN:VEVENT
DTSTART;TZID=UTC:20181109T173000
DTEND;TZID=UTC:20181109T203000
DTSTAMP:20260419T120314
CREATED:20181010T035715Z
LAST-MODIFIED:20181109T162652Z
UID:6024-1541784600-1541795400@www.pwgrange.com
SUMMARY:Handgun First Steps - 11/9 @ 530pm
DESCRIPTION:This course is intended for the individual with little or no firearms experience at all. There is not a great deal of range time in this class. This class is designed to set the groundwork for safe pistol handling. This class will teach you all the basics\, from handgun cleaning to definitions of terms to explaining the difference between a revolver and a semi-automatic. This is a great opportunity for a beginner to ask questions\, get answers\, and learn in a non-threatening environment. This will be a very FUN and informative class. There will be some time for some one-on-one instruction and if you want to\, there will be some time on the range to shoot a revolver and semi-automatic that you had learned about in the class (however\, you will not be forced to shoot if you are not ready!) The successful completion of this course will give you the basic foundation to start an exciting journey through the handgun and other firearms courses offered by Poway Weapons & Gear. \n** 3 Hours Long  View More: http://pwgrange.com/training/class/introduction-to_handguns/
URL:https://www.pwgrange.com/event/handgun-first-steps-11-9-530pm/
END:VEVENT
BEGIN:VEVENT
DTSTART;TZID=UTC:20181109T140000
DTEND;TZID=UTC:20181109T153000
DTSTAMP:20260419T120314
CREATED:20181010T035715Z
LAST-MODIFIED:20181109T162652Z
UID:6023-1541772000-1541777400@www.pwgrange.com
SUMMARY:Handgun Marksmanship Fundamentals Lab  - 11/9 @ 200pm
DESCRIPTION:This lab is designed to introduce\, or affirm\, the six primary fundamentals of handgun shooting to each student and demonstrate how these same fundamentals affect basic marksmanship. These fundamentals include the stance\, grip\, sight alignment\, breathing control\, trigger press and follow through. Our instructors will coach each student using the non-stress environment of the classroom to develop the competency in these shooting fundamentals. Upon demonstration of competency in the classroom\, our students will demonstrate these same competencies in live fire evolutions on the range while receiving continuous coaching to further perfect these marksmanship skills.\n***90 mins
URL:https://www.pwgrange.com/event/handgun-marksmanship-fundamentals-lab-11-9-200pm/
END:VEVENT
BEGIN:VEVENT
DTSTART;TZID=UTC:20181108T173000
DTEND;TZID=UTC:20181108T203000
DTSTAMP:20260419T120314
CREATED:20181009T035637Z
LAST-MODIFIED:20181108T161400Z
UID:6020-1541698200-1541709000@www.pwgrange.com
SUMMARY:Shotgun First Steps - 11/08 @ 5:30pm
DESCRIPTION:This course is intended for the individual with little or no shotgun experience but has the desire to use a shotgun for self defense in the home. The class consists of a lecture which includes safety\, basic shotgun\, nomenclature and operation. The lecture covers legal aspects of deadly force and how it relates to personal protection.\n***3 Hours  View More: http://pwgrange.com/training/class/intro-to_shotgun/
URL:https://www.pwgrange.com/event/shotgun-first-steps-11-08-530pm/
END:VEVENT
BEGIN:VEVENT
DTSTART;TZID=UTC:20181107T190000
DTEND;TZID=UTC:20181107T210000
DTSTAMP:20260419T120314
CREATED:20181008T035622Z
LAST-MODIFIED:20181107T161120Z
UID:6012-1541617200-1541624400@www.pwgrange.com
SUMMARY:VILLA RANCHO BERNARDO - JOSEPH FRANZ
DESCRIPTION:30 GUESTS ON THE 25YARD RANGE – DR. TEAM BUILDING EVENT  – WILL NEED SHORT RSO BREIF AND USE OF REAL SHOTS IS INCLUDED
URL:https://www.pwgrange.com/event/villa-rancho-bernardo-joseph-franz/
END:VEVENT
BEGIN:VEVENT
DTSTART;TZID=UTC:20181107T173000
DTEND;TZID=UTC:20181107T203000
DTSTAMP:20260419T120314
CREATED:20181008T035622Z
LAST-MODIFIED:20181017T144259Z
UID:6011-1541611800-1541622600@www.pwgrange.com
SUMMARY:Handgun Next Steps - 11/07 @ 5:30p
DESCRIPTION:Introduction to Handgun 2 takes off where Introduction to Handgun 1 left off. There will be a review of the topics and skills learned in Introduction to Handgun 1 and then we will build on them with most of the class being spent on handgun manipulation. Students will be experiencing loading and unloading of the handgun in the non-stress environment of the classroom using snap-caps (dummy rounds). We will also touch on legal definitions related to the storage and transport of handguns\, ammunition selection\, and basic marksmanship on the range.
URL:https://www.pwgrange.com/event/handgun-next-steps-11-07-530p/
END:VEVENT
BEGIN:VEVENT
DTSTART;TZID=UTC:20181106T090000
DTEND;TZID=UTC:20181106T235500
DTSTAMP:20260419T120314
CREATED:20181007T035941Z
LAST-MODIFIED:20181106T161157Z
UID:6006-1541494800-1541548500@www.pwgrange.com
SUMMARY:GOVERMENT CONTRACT
DESCRIPTION:
URL:https://www.pwgrange.com/event/goverment-contract-50/
END:VEVENT
BEGIN:VEVENT
DTSTART;TZID=UTC:20181106T070000
DTEND;TZID=UTC:20181106T110000
DTSTAMP:20260419T120314
CREATED:20181007T035940Z
LAST-MODIFIED:20181106T161157Z
UID:6005-1541487600-1541502000@www.pwgrange.com
SUMMARY:GOVERMENT CONTRACT
DESCRIPTION:
URL:https://www.pwgrange.com/event/goverment-contract-49/
END:VEVENT
BEGIN:VEVENT
DTSTART;TZID=UTC:20181104T140000
DTEND;TZID=UTC:20181104T170000
DTSTAMP:20260419T120314
CREATED:20181005T035838Z
LAST-MODIFIED:20181104T155614Z
UID:5995-1541340000-1541350800@www.pwgrange.com
SUMMARY:Modern Carbine First Steps  11/04 @ 2:00pm
DESCRIPTION:This course is designed for the individual with little or no carbine rifle experience. In this class you will learn to use your rifle safely and effectively. This is a great opportunity for a beginner to ask questions\, get answers\, and learn in a non-threatening environment. All rifle (.223 or handgun caliber) ammunition is provided for this class and is included in the tuition.\n* Features and functions of a carbine rifle * Accessory selection such as optic choices * How to load and unload * Fundamental skills needed to fire a rifle There will be both classroom and range time in this course. That’s right! Our highly skilled instructors will help you put the classroom knowledge to use on the range and practice the fundamental skills used to fire a rifle.
URL:https://www.pwgrange.com/event/modern-carbine-first-steps-11-04-200pm/
END:VEVENT
BEGIN:VEVENT
DTSTART;TZID=UTC:20181104T100000
DTEND;TZID=UTC:20181104T130000
DTSTAMP:20260419T120314
CREATED:20181005T035838Z
LAST-MODIFIED:20181104T155614Z
UID:5994-1541325600-1541336400@www.pwgrange.com
SUMMARY:Handgun Next Steps - 11/04 @ 10:00am
DESCRIPTION:Introduction to Handgun 2 takes off where Introduction to Handgun 1 left off. There will be a review of the topics and skills learned in Introduction to Handgun 1 and then we will build on them with most of the class being spent on handgun manipulation. Students will be experiencing loading and unloading of the handgun in the non-stress environment of the classroom using snap-caps (dummy rounds). We will also touch on legal definitions related to the storage and transport of handguns\, ammunition selection\, and basic marksmanship on the range.
URL:https://www.pwgrange.com/event/handgun-next-steps-11-04-1000am/
END:VEVENT
BEGIN:VEVENT
DTSTART;TZID=UTC:20181103T160000
DTEND;TZID=UTC:20181103T180000
DTSTAMP:20260419T120314
CREATED:20181103T155620Z
LAST-MODIFIED:20181103T155620Z
UID:6153-1541260800-1541268000@www.pwgrange.com
SUMMARY:PRIVATE PARTY
DESCRIPTION:Party for Angie
URL:https://www.pwgrange.com/event/private-party/
END:VEVENT
BEGIN:VEVENT
DTSTART;TZID=UTC:20181103T140000
DTEND;TZID=UTC:20181103T153000
DTSTAMP:20260419T120314
CREATED:20181004T035625Z
LAST-MODIFIED:20181103T155619Z
UID:5990-1541253600-1541259000@www.pwgrange.com
SUMMARY:4 Step Draw/Dynamic Certification Lab  - 11/3 @ 2:00pm
DESCRIPTION:This lab is being offered to those who wish to develop a proper technique to draw from the holster in order to quickly address a threat for defensive handgun or tactics purposes.  At the conclusion of this lab\, participants will also be dynamically certified so that they can draw while shooting on the ranges at Poway Weapons and Gear in the future.  \n2 Hours Long
URL:https://www.pwgrange.com/event/4-step-draw-dynamic-certification-lab-11-3-200pm/
END:VEVENT
BEGIN:VEVENT
DTSTART;TZID=UTC:20181103T100000
DTEND;TZID=UTC:20181103T130000
DTSTAMP:20260419T120314
CREATED:20181004T035625Z
LAST-MODIFIED:20181103T155619Z
UID:5989-1541239200-1541250000@www.pwgrange.com
SUMMARY:Youth Safety and Markmanship 11/03 @ 10:00 am
DESCRIPTION:Now your child can learn the proper way to handle firearms from a certified firearms instructor. In this interactive class children will learn safety\, firearm function/ operation\, and the fundamentals with range time (shooting)! Yes\,students will have the opportunity to shoot pistols and .22 long rifles.\nAn interactive discussion on facts and myths of firearms in TV/movies/ video games vs. firearms in real life Discussion of safety rules Scenarios on finding guns and what to do/not do when one is found.
URL:https://www.pwgrange.com/event/youth-safety-and-markmanship-11-03-1000-am/
END:VEVENT
BEGIN:VEVENT
DTSTART;TZID=UTC:20181102T173000
DTEND;TZID=UTC:20181102T203000
DTSTAMP:20260419T120314
CREATED:20181003T035654Z
LAST-MODIFIED:20181102T155619Z
UID:5985-1541179800-1541190600@www.pwgrange.com
SUMMARY:Handgun First Steps - 11/2 @ 530pm
DESCRIPTION:This course is intended for the individual with little or no firearms experience at all. There is not a great deal of range time in this class. This class is designed to set the groundwork for safe pistol handling. This class will teach you all the basics\, from handgun cleaning to definitions of terms to explaining the difference between a revolver and a semi-automatic. This is a great opportunity for a beginner to ask questions\, get answers\, and learn in a non-threatening environment. This will be a very FUN and informative class. There will be some time for some one-on-one instruction and if you want to\, there will be some time on the range to shoot a revolver and semi-automatic that you had learned about in the class (however\, you will not be forced to shoot if you are not ready!) The successful completion of this course will give you the basic foundation to start an exciting journey through the handgun and other firearms courses offered by Poway Weapons & Gear. \n** 3 Hours Long  View More: http://pwgrange.com/training/class/introduction-to_handguns/
URL:https://www.pwgrange.com/event/handgun-first-steps-11-2-530pm/
END:VEVENT
BEGIN:VEVENT
DTSTART;TZID=UTC:20181102T140000
DTEND;TZID=UTC:20181102T153000
DTSTAMP:20260419T120314
CREATED:20181003T035653Z
LAST-MODIFIED:20181027T154124Z
UID:5984-1541167200-1541172600@www.pwgrange.com
SUMMARY:Handgun Marksmanship Fundamentals Lab  - 11/2 @ 200pm
DESCRIPTION:This lab is designed to introduce\, or affirm\, the six primary fundamentals of handgun shooting to each student and demonstrate how these same fundamentals affect basic marksmanship. These fundamentals include the stance\, grip\, sight alignment\, breathing control\, trigger press and follow through. Our instructors will coach each student using the non-stress environment of the classroom to develop the competency in these shooting fundamentals. Upon demonstration of competency in the classroom\, our students will demonstrate these same competencies in live fire evolutions on the range while receiving continuous coaching to further perfect these marksmanship skills.\n***90 mins
URL:https://www.pwgrange.com/event/handgun-marksmanship-fundamentals-lab-11-2-200pm/
END:VEVENT
BEGIN:VEVENT
DTSTART;TZID=UTC:20181102T080000
DTEND;TZID=UTC:20181102T160000
DTSTAMP:20260419T120314
CREATED:20181028T154117Z
LAST-MODIFIED:20181102T155619Z
UID:6100-1541145600-1541174400@www.pwgrange.com
SUMMARY:Concealed American - 11/02 @ 8:00A
DESCRIPTION:It is always an exciting time to learn about firearms and personal protection. PWG supports the need to protect yourself at home and beyond. This course is designed for anyone with an interest in safe and effective use of a handgun while carrying a concealed weapon. You will be exposed to legal definitions\, situational preparedness\, negatives of carrying a firearm\, criminal and civil liability\, deploying the firearm from concealment and more!\n*** 8 Hours Long  View More: http://pwgrange.com/training/class/ca-concealed-carry-classes-multi-state-ccw/
URL:https://www.pwgrange.com/event/concealed-american-11-02-800a/
END:VEVENT
BEGIN:VEVENT
DTSTART;TZID=UTC:20181102T070000
DTEND;TZID=UTC:20181102T160000
DTSTAMP:20260419T120314
CREATED:20181027T154123Z
LAST-MODIFIED:20181102T155618Z
UID:6094-1541142000-1541174400@www.pwgrange.com
SUMMARY:GOVERMENT CONTRACT
DESCRIPTION:
URL:https://www.pwgrange.com/event/goverment-contract-62/
END:VEVENT
BEGIN:VEVENT
DTSTART;TZID=UTC:20181101T173000
DTEND;TZID=UTC:20181101T203000
DTSTAMP:20260419T120314
CREATED:20181002T035703Z
LAST-MODIFIED:20181101T155614Z
UID:5981-1541093400-1541104200@www.pwgrange.com
SUMMARY:Handgun Next Steps - 11/01 @ 5:30pm
DESCRIPTION:Introduction to Handgun 2 takes off where Introduction to Handgun 1 left off. There will be a review of the topics and skills learned in Introduction to Handgun 1 and then we will build on them with most of the class being spent on handgun manipulation. Students will be experiencing loading and unloading of the handgun in the non-stress environment of the classroom using snap-caps (dummy rounds). We will also touch on legal definitions related to the storage and transport of handguns\, ammunition selection\, and basic marksmanship on the range.
URL:https://www.pwgrange.com/event/handgun-next-steps-11-01-530pm/
END:VEVENT
BEGIN:VEVENT
DTSTART;TZID=UTC:20181101T070000
DTEND;TZID=UTC:20181101T160000
DTSTAMP:20260419T120314
CREATED:20181027T154122Z
LAST-MODIFIED:20181101T155614Z
UID:6093-1541055600-1541088000@www.pwgrange.com
SUMMARY:GOVERMENT CONTRACT
DESCRIPTION:
URL:https://www.pwgrange.com/event/goverment-contract-61/
END:VEVENT
END:VCALENDAR