BEGIN:VCALENDAR
VERSION:2.0
PRODID:-//Poway Weapons &amp; Gear Range - ECPv6.15.18//NONSGML v1.0//EN
CALSCALE:GREGORIAN
METHOD:PUBLISH
X-WR-CALNAME:Poway Weapons &amp; Gear Range
X-ORIGINAL-URL:https://www.pwgrange.com
X-WR-CALDESC:Events for Poway Weapons &amp; Gear Range
REFRESH-INTERVAL;VALUE=DURATION:PT1H
X-Robots-Tag:noindex
X-PUBLISHED-TTL:PT1H
BEGIN:VTIMEZONE
TZID:UTC
BEGIN:STANDARD
TZOFFSETFROM:+0000
TZOFFSETTO:+0000
TZNAME:UTC
DTSTART:20170101T000000
END:STANDARD
END:VTIMEZONE
BEGIN:VEVENT
DTSTART;TZID=UTC:20181121T173000
DTEND;TZID=UTC:20181121T203000
DTSTAMP:20260419T082442
CREATED:20181022T151257Z
LAST-MODIFIED:20181024T152743Z
UID:6076-1542821400-1542832200@www.pwgrange.com
SUMMARY:Shotgun First Steps - 11/21 @ 5:30pm
DESCRIPTION:This course is intended for the individual with little or no shotgun experience but has the desire to use a shotgun for self defense in the home. The class consists of a lecture which includes safety\, basic shotgun\, nomenclature and operation. The lecture covers legal aspects of deadly force and how it relates to personal protection.\n***3 Hours  View More: http://pwgrange.com/training/class/intro-to_shotgun/
URL:https://www.pwgrange.com/event/shotgun-first-steps-11-21-530pm/
END:VEVENT
BEGIN:VEVENT
DTSTART;TZID=UTC:20181121T173000
DTEND;TZID=UTC:20181121T203000
DTSTAMP:20260419T082442
CREATED:20181112T162638Z
LAST-MODIFIED:20181121T164119Z
UID:6202-1542821400-1542832200@www.pwgrange.com
SUMMARY:Shotgun First Steps - 11/21 @ 5:30pm
DESCRIPTION:This course is intended for the individual with little or no shotgun experience but has the desire to use a shotgun for self defense in the home. The class consists of a lecture which includes safety\, basic shotgun\, nomenclature and operation. The lecture covers legal aspects of deadly force and how it relates to personal protection.\n***3 Hours  View More: http://pwgrange.com/training/class/intro-to_shotgun/
URL:https://www.pwgrange.com/event/shotgun-first-steps-11-21-530pm-2/
END:VEVENT
END:VCALENDAR